BEGIN:VCALENDAR
VERSION:2.0
BEGIN:VEVENT
UID:58178625-8624-4515-5451-000000008702
SUMMARY:A4 Holz, schadstoffhaltig (Bringsystem)
DESCRIPTION;ENCODING=QUOTED-PRINTABLE:A4 Holz, schadstoffhaltig (Bringsystem) ist eine Regelabfuhr, eine Anmeldung ist nicht erforderlich.
DTSTART:20260912
DTEND:20260913
END:VEVENT
BEGIN:VEVENT
UID:58178625-8624-4515-5451-000000008654
SUMMARY:Altholz 
DESCRIPTION:Altholz  ist ein anmeldepflichtiger Abfuhrtermin.\nDie Anmeldefrist für diesen Termin endet am 04.05.2026.\nAnmeldung zum Abfuhrtermin für die Straße "Alter Kirchweg" unter der URL: http://finnentrop.abfuhrtermine.info/orders/add/date_id:8654/sorting_id:19/street_id:13
DTSTART:20260507
DTEND:20260508
END:VEVENT
BEGIN:VEVENT
UID:58178625-8624-4515-5451-000000008655
SUMMARY:Altholz 
DESCRIPTION:Altholz  ist ein anmeldepflichtiger Abfuhrtermin.\nDie Anmeldefrist für diesen Termin endet am 29.06.2026.\nAnmeldung zum Abfuhrtermin für die Straße "Alter Kirchweg" unter der URL: http://finnentrop.abfuhrtermine.info/orders/add/date_id:8655/sorting_id:19/street_id:13
DTSTART:20260702
DTEND:20260703
END:VEVENT
BEGIN:VEVENT
UID:58178625-8624-4515-5451-000000008656
SUMMARY:Altholz 
DESCRIPTION:Altholz  ist ein anmeldepflichtiger Abfuhrtermin.\nDie Anmeldefrist für diesen Termin endet am 24.08.2026.\nAnmeldung zum Abfuhrtermin für die Straße "Alter Kirchweg" unter der URL: http://finnentrop.abfuhrtermine.info/orders/add/date_id:8656/sorting_id:19/street_id:13
DTSTART:20260827
DTEND:20260828
END:VEVENT
BEGIN:VEVENT
UID:58178625-8624-4515-5451-000000008657
SUMMARY:Altholz 
DESCRIPTION:Altholz  ist ein anmeldepflichtiger Abfuhrtermin.\nDie Anmeldefrist für diesen Termin endet am 02.11.2026.\nAnmeldung zum Abfuhrtermin für die Straße "Alter Kirchweg" unter der URL: http://finnentrop.abfuhrtermine.info/orders/add/date_id:8657/sorting_id:19/street_id:13
DTSTART:20261105
DTEND:20261106
END:VEVENT
BEGIN:VEVENT
UID:58178625-8624-4515-5451-000000008678
SUMMARY:Elektrogeräte/Metallschrott
DESCRIPTION:Elektrogeräte/Metallschrott ist ein anmeldepflichtiger Abfuhrtermin.\nDie Anmeldefrist für diesen Termin endet am 15.05.2026.\nAnmeldung zum Abfuhrtermin für die Straße "Alter Kirchweg" unter der URL: http://finnentrop.abfuhrtermine.info/orders/add/date_id:8678/sorting_id:20/street_id:13
DTSTART:20260520
DTEND:20260521
END:VEVENT
BEGIN:VEVENT
UID:58178625-8624-4515-5451-000000008679
SUMMARY:Elektrogeräte/Metallschrott
DESCRIPTION:Elektrogeräte/Metallschrott ist ein anmeldepflichtiger Abfuhrtermin.\nDie Anmeldefrist für diesen Termin endet am 10.07.2026.\nAnmeldung zum Abfuhrtermin für die Straße "Alter Kirchweg" unter der URL: http://finnentrop.abfuhrtermine.info/orders/add/date_id:8679/sorting_id:20/street_id:13
DTSTART:20260715
DTEND:20260716
END:VEVENT
BEGIN:VEVENT
UID:58178625-8624-4515-5451-000000008680
SUMMARY:Elektrogeräte/Metallschrott
DESCRIPTION:Elektrogeräte/Metallschrott ist ein anmeldepflichtiger Abfuhrtermin.\nDie Anmeldefrist für diesen Termin endet am 11.09.2026.\nAnmeldung zum Abfuhrtermin für die Straße "Alter Kirchweg" unter der URL: http://finnentrop.abfuhrtermine.info/orders/add/date_id:8680/sorting_id:20/street_id:13
DTSTART:20260916
DTEND:20260917
END:VEVENT
BEGIN:VEVENT
UID:58178625-8624-4515-5451-000000008681
SUMMARY:Elektrogeräte/Metallschrott
DESCRIPTION:Elektrogeräte/Metallschrott ist ein anmeldepflichtiger Abfuhrtermin.\nDie Anmeldefrist für diesen Termin endet am 06.11.2026.\nAnmeldung zum Abfuhrtermin für die Straße "Alter Kirchweg" unter der URL: http://finnentrop.abfuhrtermine.info/orders/add/date_id:8681/sorting_id:20/street_id:13
DTSTART:20261111
DTEND:20261112
END:VEVENT
BEGIN:VEVENT
UID:58178625-8624-4515-5451-000000008628
SUMMARY:Sperrgut
DESCRIPTION:Sperrgut ist ein anmeldepflichtiger Abfuhrtermin.\nDie Anmeldefrist für diesen Termin endet am 29.05.2026.\nAnmeldung zum Abfuhrtermin für die Straße "Alter Kirchweg" unter der URL: http://finnentrop.abfuhrtermine.info/orders/add/date_id:8628/sorting_id:21/street_id:13
DTSTART:20260603
DTEND:20260604
END:VEVENT
BEGIN:VEVENT
UID:58178625-8624-4515-5451-000000008629
SUMMARY:Sperrgut
DESCRIPTION:Sperrgut ist ein anmeldepflichtiger Abfuhrtermin.\nDie Anmeldefrist für diesen Termin endet am 03.08.2026.\nAnmeldung zum Abfuhrtermin für die Straße "Alter Kirchweg" unter der URL: http://finnentrop.abfuhrtermine.info/orders/add/date_id:8629/sorting_id:21/street_id:13
DTSTART:20260806
DTEND:20260807
END:VEVENT
BEGIN:VEVENT
UID:58178625-8624-4515-5451-000000008630
SUMMARY:Sperrgut
DESCRIPTION:Sperrgut ist ein anmeldepflichtiger Abfuhrtermin.\nDie Anmeldefrist für diesen Termin endet am 28.09.2026.\nAnmeldung zum Abfuhrtermin für die Straße "Alter Kirchweg" unter der URL: http://finnentrop.abfuhrtermine.info/orders/add/date_id:8630/sorting_id:21/street_id:13
DTSTART:20261001
DTEND:20261002
END:VEVENT
BEGIN:VEVENT
UID:58178625-8624-4515-5451-000000008631
SUMMARY:Sperrgut
DESCRIPTION:Sperrgut ist ein anmeldepflichtiger Abfuhrtermin.\nDie Anmeldefrist für diesen Termin endet am 08.12.2026.\nAnmeldung zum Abfuhrtermin für die Straße "Alter Kirchweg" unter der URL: http://finnentrop.abfuhrtermine.info/orders/add/date_id:8631/sorting_id:21/street_id:13
DTSTART:20261211
DTEND:20261212
END:VEVENT
BEGIN:VEVENT
UID:58178625-8624-4515-5451-000000008288
SUMMARY:Bioabfälle
DESCRIPTION;ENCODING=QUOTED-PRINTABLE:Bioabfälle ist eine Regelabfuhr, eine Anmeldung ist nicht erforderlich.
DTSTART:20260502
DTEND:20260503
END:VEVENT
BEGIN:VEVENT
UID:58178625-8624-4515-5451-000000008289
SUMMARY:Bioabfälle
DESCRIPTION;ENCODING=QUOTED-PRINTABLE:Bioabfälle ist eine Regelabfuhr, eine Anmeldung ist nicht erforderlich.
DTSTART:20260516
DTEND:20260517
END:VEVENT
BEGIN:VEVENT
UID:58178625-8624-4515-5451-000000008290
SUMMARY:Bioabfälle
DESCRIPTION;ENCODING=QUOTED-PRINTABLE:Bioabfälle ist eine Regelabfuhr, eine Anmeldung ist nicht erforderlich.
DTSTART:20260522
DTEND:20260523
END:VEVENT
BEGIN:VEVENT
UID:58178625-8624-4515-5451-000000008291
SUMMARY:Bioabfälle
DESCRIPTION;ENCODING=QUOTED-PRINTABLE:Bioabfälle ist eine Regelabfuhr, eine Anmeldung ist nicht erforderlich.
DTSTART:20260530
DTEND:20260531
END:VEVENT
BEGIN:VEVENT
UID:58178625-8624-4515-5451-000000008292
SUMMARY:Bioabfälle
DESCRIPTION;ENCODING=QUOTED-PRINTABLE:Bioabfälle ist eine Regelabfuhr, eine Anmeldung ist nicht erforderlich.
DTSTART:20260606
DTEND:20260607
END:VEVENT
BEGIN:VEVENT
UID:58178625-8624-4515-5451-000000008293
SUMMARY:Bioabfälle
DESCRIPTION;ENCODING=QUOTED-PRINTABLE:Bioabfälle ist eine Regelabfuhr, eine Anmeldung ist nicht erforderlich.
DTSTART:20260612
DTEND:20260613
END:VEVENT
BEGIN:VEVENT
UID:58178625-8624-4515-5451-000000008294
SUMMARY:Bioabfälle
DESCRIPTION;ENCODING=QUOTED-PRINTABLE:Bioabfälle ist eine Regelabfuhr, eine Anmeldung ist nicht erforderlich.
DTSTART:20260619
DTEND:20260620
END:VEVENT
BEGIN:VEVENT
UID:58178625-8624-4515-5451-000000008295
SUMMARY:Bioabfälle
DESCRIPTION;ENCODING=QUOTED-PRINTABLE:Bioabfälle ist eine Regelabfuhr, eine Anmeldung ist nicht erforderlich.
DTSTART:20260626
DTEND:20260627
END:VEVENT
BEGIN:VEVENT
UID:58178625-8624-4515-5451-000000008296
SUMMARY:Bioabfälle
DESCRIPTION;ENCODING=QUOTED-PRINTABLE:Bioabfälle ist eine Regelabfuhr, eine Anmeldung ist nicht erforderlich.
DTSTART:20260703
DTEND:20260704
END:VEVENT
BEGIN:VEVENT
UID:58178625-8624-4515-5451-000000008297
SUMMARY:Bioabfälle
DESCRIPTION;ENCODING=QUOTED-PRINTABLE:Bioabfälle ist eine Regelabfuhr, eine Anmeldung ist nicht erforderlich.
DTSTART:20260710
DTEND:20260711
END:VEVENT
BEGIN:VEVENT
UID:58178625-8624-4515-5451-000000008298
SUMMARY:Bioabfälle
DESCRIPTION;ENCODING=QUOTED-PRINTABLE:Bioabfälle ist eine Regelabfuhr, eine Anmeldung ist nicht erforderlich.
DTSTART:20260717
DTEND:20260718
END:VEVENT
BEGIN:VEVENT
UID:58178625-8624-4515-5451-000000008299
SUMMARY:Bioabfälle
DESCRIPTION;ENCODING=QUOTED-PRINTABLE:Bioabfälle ist eine Regelabfuhr, eine Anmeldung ist nicht erforderlich.
DTSTART:20260724
DTEND:20260725
END:VEVENT
BEGIN:VEVENT
UID:58178625-8624-4515-5451-000000008300
SUMMARY:Bioabfälle
DESCRIPTION;ENCODING=QUOTED-PRINTABLE:Bioabfälle ist eine Regelabfuhr, eine Anmeldung ist nicht erforderlich.
DTSTART:20260731
DTEND:20260801
END:VEVENT
BEGIN:VEVENT
UID:58178625-8624-4515-5451-000000008301
SUMMARY:Bioabfälle
DESCRIPTION;ENCODING=QUOTED-PRINTABLE:Bioabfälle ist eine Regelabfuhr, eine Anmeldung ist nicht erforderlich.
DTSTART:20260807
DTEND:20260808
END:VEVENT
BEGIN:VEVENT
UID:58178625-8624-4515-5451-000000008302
SUMMARY:Bioabfälle
DESCRIPTION;ENCODING=QUOTED-PRINTABLE:Bioabfälle ist eine Regelabfuhr, eine Anmeldung ist nicht erforderlich.
DTSTART:20260814
DTEND:20260815
END:VEVENT
BEGIN:VEVENT
UID:58178625-8624-4515-5451-000000008303
SUMMARY:Bioabfälle
DESCRIPTION;ENCODING=QUOTED-PRINTABLE:Bioabfälle ist eine Regelabfuhr, eine Anmeldung ist nicht erforderlich.
DTSTART:20260821
DTEND:20260822
END:VEVENT
BEGIN:VEVENT
UID:58178625-8624-4515-5451-000000008304
SUMMARY:Bioabfälle
DESCRIPTION;ENCODING=QUOTED-PRINTABLE:Bioabfälle ist eine Regelabfuhr, eine Anmeldung ist nicht erforderlich.
DTSTART:20260828
DTEND:20260829
END:VEVENT
BEGIN:VEVENT
UID:58178625-8624-4515-5451-000000008305
SUMMARY:Bioabfälle
DESCRIPTION;ENCODING=QUOTED-PRINTABLE:Bioabfälle ist eine Regelabfuhr, eine Anmeldung ist nicht erforderlich.
DTSTART:20260904
DTEND:20260905
END:VEVENT
BEGIN:VEVENT
UID:58178625-8624-4515-5451-000000008306
SUMMARY:Bioabfälle
DESCRIPTION;ENCODING=QUOTED-PRINTABLE:Bioabfälle ist eine Regelabfuhr, eine Anmeldung ist nicht erforderlich.
DTSTART:20260911
DTEND:20260912
END:VEVENT
BEGIN:VEVENT
UID:58178625-8624-4515-5451-000000008307
SUMMARY:Bioabfälle
DESCRIPTION;ENCODING=QUOTED-PRINTABLE:Bioabfälle ist eine Regelabfuhr, eine Anmeldung ist nicht erforderlich.
DTSTART:20260918
DTEND:20260919
END:VEVENT
BEGIN:VEVENT
UID:58178625-8624-4515-5451-000000008308
SUMMARY:Bioabfälle
DESCRIPTION;ENCODING=QUOTED-PRINTABLE:Bioabfälle ist eine Regelabfuhr, eine Anmeldung ist nicht erforderlich.
DTSTART:20260925
DTEND:20260926
END:VEVENT
BEGIN:VEVENT
UID:58178625-8624-4515-5451-000000008309
SUMMARY:Bioabfälle
DESCRIPTION;ENCODING=QUOTED-PRINTABLE:Bioabfälle ist eine Regelabfuhr, eine Anmeldung ist nicht erforderlich.
DTSTART:20261002
DTEND:20261003
END:VEVENT
BEGIN:VEVENT
UID:58178625-8624-4515-5451-000000008310
SUMMARY:Bioabfälle
DESCRIPTION;ENCODING=QUOTED-PRINTABLE:Bioabfälle ist eine Regelabfuhr, eine Anmeldung ist nicht erforderlich.
DTSTART:20261009
DTEND:20261010
END:VEVENT
BEGIN:VEVENT
UID:58178625-8624-4515-5451-000000008311
SUMMARY:Bioabfälle
DESCRIPTION;ENCODING=QUOTED-PRINTABLE:Bioabfälle ist eine Regelabfuhr, eine Anmeldung ist nicht erforderlich.
DTSTART:20261016
DTEND:20261017
END:VEVENT
BEGIN:VEVENT
UID:58178625-8624-4515-5451-000000008312
SUMMARY:Bioabfälle
DESCRIPTION;ENCODING=QUOTED-PRINTABLE:Bioabfälle ist eine Regelabfuhr, eine Anmeldung ist nicht erforderlich.
DTSTART:20261030
DTEND:20261031
END:VEVENT
BEGIN:VEVENT
UID:58178625-8624-4515-5451-000000008313
SUMMARY:Bioabfälle
DESCRIPTION;ENCODING=QUOTED-PRINTABLE:Bioabfälle ist eine Regelabfuhr, eine Anmeldung ist nicht erforderlich.
DTSTART:20261113
DTEND:20261114
END:VEVENT
BEGIN:VEVENT
UID:58178625-8624-4515-5451-000000008314
SUMMARY:Bioabfälle
DESCRIPTION;ENCODING=QUOTED-PRINTABLE:Bioabfälle ist eine Regelabfuhr, eine Anmeldung ist nicht erforderlich.
DTSTART:20261127
DTEND:20261128
END:VEVENT
BEGIN:VEVENT
UID:58178625-8624-4515-5451-000000008315
SUMMARY:Bioabfälle
DESCRIPTION;ENCODING=QUOTED-PRINTABLE:Bioabfälle ist eine Regelabfuhr, eine Anmeldung ist nicht erforderlich.
DTSTART:20261211
DTEND:20261212
END:VEVENT
BEGIN:VEVENT
UID:58178625-8624-4515-5451-000000008316
SUMMARY:Bioabfälle
DESCRIPTION;ENCODING=QUOTED-PRINTABLE:Bioabfälle ist eine Regelabfuhr, eine Anmeldung ist nicht erforderlich.
DTSTART:20261224
DTEND:20261225
END:VEVENT
BEGIN:VEVENT
UID:58178625-8624-4515-5451-000000008530
SUMMARY:gelbe Tonne/Sack
DESCRIPTION;ENCODING=QUOTED-PRINTABLE:gelbe Tonne/Sack ist eine Regelabfuhr, eine Anmeldung ist nicht erforderlich.
DTSTART:20260424
DTEND:20260425
END:VEVENT
BEGIN:VEVENT
UID:58178625-8624-4515-5451-000000008531
SUMMARY:gelbe Tonne/Sack
DESCRIPTION;ENCODING=QUOTED-PRINTABLE:gelbe Tonne/Sack ist eine Regelabfuhr, eine Anmeldung ist nicht erforderlich.
DTSTART:20260508
DTEND:20260509
END:VEVENT
BEGIN:VEVENT
UID:58178625-8624-4515-5451-000000008532
SUMMARY:gelbe Tonne/Sack
DESCRIPTION;ENCODING=QUOTED-PRINTABLE:gelbe Tonne/Sack ist eine Regelabfuhr, eine Anmeldung ist nicht erforderlich.
DTSTART:20260522
DTEND:20260523
END:VEVENT
BEGIN:VEVENT
UID:58178625-8624-4515-5451-000000008533
SUMMARY:gelbe Tonne/Sack
DESCRIPTION;ENCODING=QUOTED-PRINTABLE:gelbe Tonne/Sack ist eine Regelabfuhr, eine Anmeldung ist nicht erforderlich.
DTSTART:20260606
DTEND:20260607
END:VEVENT
BEGIN:VEVENT
UID:58178625-8624-4515-5451-000000008534
SUMMARY:gelbe Tonne/Sack
DESCRIPTION;ENCODING=QUOTED-PRINTABLE:gelbe Tonne/Sack ist eine Regelabfuhr, eine Anmeldung ist nicht erforderlich.
DTSTART:20260619
DTEND:20260620
END:VEVENT
BEGIN:VEVENT
UID:58178625-8624-4515-5451-000000008535
SUMMARY:gelbe Tonne/Sack
DESCRIPTION;ENCODING=QUOTED-PRINTABLE:gelbe Tonne/Sack ist eine Regelabfuhr, eine Anmeldung ist nicht erforderlich.
DTSTART:20260703
DTEND:20260704
END:VEVENT
BEGIN:VEVENT
UID:58178625-8624-4515-5451-000000008536
SUMMARY:gelbe Tonne/Sack
DESCRIPTION;ENCODING=QUOTED-PRINTABLE:gelbe Tonne/Sack ist eine Regelabfuhr, eine Anmeldung ist nicht erforderlich.
DTSTART:20260717
DTEND:20260718
END:VEVENT
BEGIN:VEVENT
UID:58178625-8624-4515-5451-000000008537
SUMMARY:gelbe Tonne/Sack
DESCRIPTION;ENCODING=QUOTED-PRINTABLE:gelbe Tonne/Sack ist eine Regelabfuhr, eine Anmeldung ist nicht erforderlich.
DTSTART:20260731
DTEND:20260801
END:VEVENT
BEGIN:VEVENT
UID:58178625-8624-4515-5451-000000008538
SUMMARY:gelbe Tonne/Sack
DESCRIPTION;ENCODING=QUOTED-PRINTABLE:gelbe Tonne/Sack ist eine Regelabfuhr, eine Anmeldung ist nicht erforderlich.
DTSTART:20260814
DTEND:20260815
END:VEVENT
BEGIN:VEVENT
UID:58178625-8624-4515-5451-000000008539
SUMMARY:gelbe Tonne/Sack
DESCRIPTION;ENCODING=QUOTED-PRINTABLE:gelbe Tonne/Sack ist eine Regelabfuhr, eine Anmeldung ist nicht erforderlich.
DTSTART:20260828
DTEND:20260829
END:VEVENT
BEGIN:VEVENT
UID:58178625-8624-4515-5451-000000008540
SUMMARY:gelbe Tonne/Sack
DESCRIPTION;ENCODING=QUOTED-PRINTABLE:gelbe Tonne/Sack ist eine Regelabfuhr, eine Anmeldung ist nicht erforderlich.
DTSTART:20260911
DTEND:20260912
END:VEVENT
BEGIN:VEVENT
UID:58178625-8624-4515-5451-000000008541
SUMMARY:gelbe Tonne/Sack
DESCRIPTION;ENCODING=QUOTED-PRINTABLE:gelbe Tonne/Sack ist eine Regelabfuhr, eine Anmeldung ist nicht erforderlich.
DTSTART:20260925
DTEND:20260926
END:VEVENT
BEGIN:VEVENT
UID:58178625-8624-4515-5451-000000008542
SUMMARY:gelbe Tonne/Sack
DESCRIPTION;ENCODING=QUOTED-PRINTABLE:gelbe Tonne/Sack ist eine Regelabfuhr, eine Anmeldung ist nicht erforderlich.
DTSTART:20261009
DTEND:20261010
END:VEVENT
BEGIN:VEVENT
UID:58178625-8624-4515-5451-000000008543
SUMMARY:gelbe Tonne/Sack
DESCRIPTION;ENCODING=QUOTED-PRINTABLE:gelbe Tonne/Sack ist eine Regelabfuhr, eine Anmeldung ist nicht erforderlich.
DTSTART:20261023
DTEND:20261024
END:VEVENT
BEGIN:VEVENT
UID:58178625-8624-4515-5451-000000008544
SUMMARY:gelbe Tonne/Sack
DESCRIPTION;ENCODING=QUOTED-PRINTABLE:gelbe Tonne/Sack ist eine Regelabfuhr, eine Anmeldung ist nicht erforderlich.
DTSTART:20261106
DTEND:20261107
END:VEVENT
BEGIN:VEVENT
UID:58178625-8624-4515-5451-000000008545
SUMMARY:gelbe Tonne/Sack
DESCRIPTION;ENCODING=QUOTED-PRINTABLE:gelbe Tonne/Sack ist eine Regelabfuhr, eine Anmeldung ist nicht erforderlich.
DTSTART:20261120
DTEND:20261121
END:VEVENT
BEGIN:VEVENT
UID:58178625-8624-4515-5451-000000008546
SUMMARY:gelbe Tonne/Sack
DESCRIPTION;ENCODING=QUOTED-PRINTABLE:gelbe Tonne/Sack ist eine Regelabfuhr, eine Anmeldung ist nicht erforderlich.
DTSTART:20261204
DTEND:20261205
END:VEVENT
BEGIN:VEVENT
UID:58178625-8624-4515-5451-000000008547
SUMMARY:gelbe Tonne/Sack
DESCRIPTION;ENCODING=QUOTED-PRINTABLE:gelbe Tonne/Sack ist eine Regelabfuhr, eine Anmeldung ist nicht erforderlich.
DTSTART:20261218
DTEND:20261219
END:VEVENT
BEGIN:VEVENT
UID:58178625-8624-4515-5451-000000008122
SUMMARY:Papier/Pappe
DESCRIPTION;ENCODING=QUOTED-PRINTABLE:Papier/Pappe ist eine Regelabfuhr, eine Anmeldung ist nicht erforderlich.
DTSTART:20260421
DTEND:20260422
END:VEVENT
BEGIN:VEVENT
UID:58178625-8624-4515-5451-000000008123
SUMMARY:Papier/Pappe
DESCRIPTION;ENCODING=QUOTED-PRINTABLE:Papier/Pappe ist eine Regelabfuhr, eine Anmeldung ist nicht erforderlich.
DTSTART:20260519
DTEND:20260520
END:VEVENT
BEGIN:VEVENT
UID:58178625-8624-4515-5451-000000008124
SUMMARY:Papier/Pappe
DESCRIPTION;ENCODING=QUOTED-PRINTABLE:Papier/Pappe ist eine Regelabfuhr, eine Anmeldung ist nicht erforderlich.
DTSTART:20260616
DTEND:20260617
END:VEVENT
BEGIN:VEVENT
UID:58178625-8624-4515-5451-000000008125
SUMMARY:Papier/Pappe
DESCRIPTION;ENCODING=QUOTED-PRINTABLE:Papier/Pappe ist eine Regelabfuhr, eine Anmeldung ist nicht erforderlich.
DTSTART:20260714
DTEND:20260715
END:VEVENT
BEGIN:VEVENT
UID:58178625-8624-4515-5451-000000008126
SUMMARY:Papier/Pappe
DESCRIPTION;ENCODING=QUOTED-PRINTABLE:Papier/Pappe ist eine Regelabfuhr, eine Anmeldung ist nicht erforderlich.
DTSTART:20260811
DTEND:20260812
END:VEVENT
BEGIN:VEVENT
UID:58178625-8624-4515-5451-000000008127
SUMMARY:Papier/Pappe
DESCRIPTION;ENCODING=QUOTED-PRINTABLE:Papier/Pappe ist eine Regelabfuhr, eine Anmeldung ist nicht erforderlich.
DTSTART:20260908
DTEND:20260909
END:VEVENT
BEGIN:VEVENT
UID:58178625-8624-4515-5451-000000008128
SUMMARY:Papier/Pappe
DESCRIPTION;ENCODING=QUOTED-PRINTABLE:Papier/Pappe ist eine Regelabfuhr, eine Anmeldung ist nicht erforderlich.
DTSTART:20261006
DTEND:20261007
END:VEVENT
BEGIN:VEVENT
UID:58178625-8624-4515-5451-000000008129
SUMMARY:Papier/Pappe
DESCRIPTION;ENCODING=QUOTED-PRINTABLE:Papier/Pappe ist eine Regelabfuhr, eine Anmeldung ist nicht erforderlich.
DTSTART:20261103
DTEND:20261104
END:VEVENT
BEGIN:VEVENT
UID:58178625-8624-4515-5451-000000008130
SUMMARY:Papier/Pappe
DESCRIPTION;ENCODING=QUOTED-PRINTABLE:Papier/Pappe ist eine Regelabfuhr, eine Anmeldung ist nicht erforderlich.
DTSTART:20261201
DTEND:20261202
END:VEVENT
BEGIN:VEVENT
UID:58178625-8624-4515-5451-000000008131
SUMMARY:Papier/Pappe
DESCRIPTION;ENCODING=QUOTED-PRINTABLE:Papier/Pappe ist eine Regelabfuhr, eine Anmeldung ist nicht erforderlich.
DTSTART:20261229
DTEND:20261230
END:VEVENT
BEGIN:VEVENT
UID:58178625-8624-4515-5451-000000008565
SUMMARY:Reststoffe
DESCRIPTION;ENCODING=QUOTED-PRINTABLE:Reststoffe ist eine Regelabfuhr, eine Anmeldung ist nicht erforderlich.
DTSTART:20260505
DTEND:20260506
END:VEVENT
BEGIN:VEVENT
UID:58178625-8624-4515-5451-000000008566
SUMMARY:Reststoffe
DESCRIPTION;ENCODING=QUOTED-PRINTABLE:Reststoffe ist eine Regelabfuhr, eine Anmeldung ist nicht erforderlich.
DTSTART:20260602
DTEND:20260603
END:VEVENT
BEGIN:VEVENT
UID:58178625-8624-4515-5451-000000008567
SUMMARY:Reststoffe
DESCRIPTION;ENCODING=QUOTED-PRINTABLE:Reststoffe ist eine Regelabfuhr, eine Anmeldung ist nicht erforderlich.
DTSTART:20260630
DTEND:20260701
END:VEVENT
BEGIN:VEVENT
UID:58178625-8624-4515-5451-000000008568
SUMMARY:Reststoffe
DESCRIPTION;ENCODING=QUOTED-PRINTABLE:Reststoffe ist eine Regelabfuhr, eine Anmeldung ist nicht erforderlich.
DTSTART:20260728
DTEND:20260729
END:VEVENT
BEGIN:VEVENT
UID:58178625-8624-4515-5451-000000008569
SUMMARY:Reststoffe
DESCRIPTION;ENCODING=QUOTED-PRINTABLE:Reststoffe ist eine Regelabfuhr, eine Anmeldung ist nicht erforderlich.
DTSTART:20260825
DTEND:20260826
END:VEVENT
BEGIN:VEVENT
UID:58178625-8624-4515-5451-000000008570
SUMMARY:Reststoffe
DESCRIPTION;ENCODING=QUOTED-PRINTABLE:Reststoffe ist eine Regelabfuhr, eine Anmeldung ist nicht erforderlich.
DTSTART:20260922
DTEND:20260923
END:VEVENT
BEGIN:VEVENT
UID:58178625-8624-4515-5451-000000008571
SUMMARY:Reststoffe
DESCRIPTION;ENCODING=QUOTED-PRINTABLE:Reststoffe ist eine Regelabfuhr, eine Anmeldung ist nicht erforderlich.
DTSTART:20261020
DTEND:20261021
END:VEVENT
BEGIN:VEVENT
UID:58178625-8624-4515-5451-000000008572
SUMMARY:Reststoffe
DESCRIPTION;ENCODING=QUOTED-PRINTABLE:Reststoffe ist eine Regelabfuhr, eine Anmeldung ist nicht erforderlich.
DTSTART:20261117
DTEND:20261118
END:VEVENT
BEGIN:VEVENT
UID:58178625-8624-4515-5451-000000008573
SUMMARY:Reststoffe
DESCRIPTION;ENCODING=QUOTED-PRINTABLE:Reststoffe ist eine Regelabfuhr, eine Anmeldung ist nicht erforderlich.
DTSTART:20261215
DTEND:20261216
END:VEVENT
BEGIN:VEVENT
UID:58178625-8624-4515-5451-000000008696
SUMMARY:Schadstoffe (Bringsystem)
DESCRIPTION;ENCODING=QUOTED-PRINTABLE:Schadstoffe (Bringsystem) ist eine Regelabfuhr, eine Anmeldung ist nicht erforderlich.
DTSTART:20260721
DTEND:20260722
END:VEVENT
BEGIN:VEVENT
UID:58178625-8624-4515-5451-000000008697
SUMMARY:Schadstoffe (Bringsystem)
DESCRIPTION;ENCODING=QUOTED-PRINTABLE:Schadstoffe (Bringsystem) ist eine Regelabfuhr, eine Anmeldung ist nicht erforderlich.
DTSTART:20261103
DTEND:20261104
END:VEVENT
BEGIN:VEVENT
UID:58178625-8624-4515-5451-000000008693
SUMMARY:Schadstoffe (Bringsystem)
DESCRIPTION;ENCODING=QUOTED-PRINTABLE:Schadstoffe (Bringsystem) ist eine Regelabfuhr, eine Anmeldung ist nicht erforderlich.
DTSTART:20260505
DTEND:20260506
END:VEVENT
BEGIN:VEVENT
UID:58178625-8624-4515-5451-000000008694
SUMMARY:Schadstoffe (Bringsystem)
DESCRIPTION;ENCODING=QUOTED-PRINTABLE:Schadstoffe (Bringsystem) ist eine Regelabfuhr, eine Anmeldung ist nicht erforderlich.
DTSTART:20260901
DTEND:20260902
END:VEVENT
BEGIN:VEVENT
UID:58178625-8624-4515-5451-000000008699
SUMMARY:Häckseldienst
DESCRIPTION:Häckseldienst ist ein anmeldepflichtiger Abfuhrtermin.\nDie Anmeldefrist für diesen Termin endet am 14.10.2026.\nAnmeldung zum Abfuhrtermin für die Straße "Alter Kirchweg" unter der URL: http://finnentrop.abfuhrtermine.info/orders/add/date_id:8699/sorting_id:11/street_id:13
DTSTART:20261019
DTEND:20261020
END:VEVENT
END:VCALENDAR
