BEGIN:VCALENDAR
VERSION:2.0
BEGIN:VEVENT
UID:58178625-8624-4515-5451-000000008702
SUMMARY:A4 Holz, schadstoffhaltig (Bringsystem)
DESCRIPTION;ENCODING=QUOTED-PRINTABLE:A4 Holz, schadstoffhaltig (Bringsystem) ist eine Regelabfuhr, eine Anmeldung ist nicht erforderlich.
DTSTART:20260912
DTEND:20260913
END:VEVENT
BEGIN:VEVENT
UID:58178625-8624-4515-5451-000000008647
SUMMARY:Altholz 
DESCRIPTION:Altholz  ist ein anmeldepflichtiger Abfuhrtermin.\nDie Anmeldefrist für diesen Termin endet am 01.05.2026.\nAnmeldung zum Abfuhrtermin für die Straße "Zur Fielbecke" unter der URL: http://finnentrop.abfuhrtermine.info/orders/add/date_id:8647/sorting_id:19/street_id:352
DTSTART:20260506
DTEND:20260507
END:VEVENT
BEGIN:VEVENT
UID:58178625-8624-4515-5451-000000008651
SUMMARY:Altholz 
DESCRIPTION:Altholz  ist ein anmeldepflichtiger Abfuhrtermin.\nDie Anmeldefrist für diesen Termin endet am 26.06.2026.\nAnmeldung zum Abfuhrtermin für die Straße "Zur Fielbecke" unter der URL: http://finnentrop.abfuhrtermine.info/orders/add/date_id:8651/sorting_id:19/street_id:352
DTSTART:20260701
DTEND:20260702
END:VEVENT
BEGIN:VEVENT
UID:58178625-8624-4515-5451-000000008649
SUMMARY:Altholz 
DESCRIPTION:Altholz  ist ein anmeldepflichtiger Abfuhrtermin.\nDie Anmeldefrist für diesen Termin endet am 21.08.2026.\nAnmeldung zum Abfuhrtermin für die Straße "Zur Fielbecke" unter der URL: http://finnentrop.abfuhrtermine.info/orders/add/date_id:8649/sorting_id:19/street_id:352
DTSTART:20260826
DTEND:20260827
END:VEVENT
BEGIN:VEVENT
UID:58178625-8624-4515-5451-000000008650
SUMMARY:Altholz 
DESCRIPTION:Altholz  ist ein anmeldepflichtiger Abfuhrtermin.\nDie Anmeldefrist für diesen Termin endet am 30.10.2026.\nAnmeldung zum Abfuhrtermin für die Straße "Zur Fielbecke" unter der URL: http://finnentrop.abfuhrtermine.info/orders/add/date_id:8650/sorting_id:19/street_id:352
DTSTART:20261104
DTEND:20261105
END:VEVENT
BEGIN:VEVENT
UID:58178625-8624-4515-5451-000000008672
SUMMARY:Elektrogeräte/Metallschrott
DESCRIPTION:Elektrogeräte/Metallschrott ist ein anmeldepflichtiger Abfuhrtermin.\nDie Anmeldefrist für diesen Termin endet am 14.05.2026.\nAnmeldung zum Abfuhrtermin für die Straße "Zur Fielbecke" unter der URL: http://finnentrop.abfuhrtermine.info/orders/add/date_id:8672/sorting_id:20/street_id:352
DTSTART:20260519
DTEND:20260520
END:VEVENT
BEGIN:VEVENT
UID:58178625-8624-4515-5451-000000008673
SUMMARY:Elektrogeräte/Metallschrott
DESCRIPTION:Elektrogeräte/Metallschrott ist ein anmeldepflichtiger Abfuhrtermin.\nDie Anmeldefrist für diesen Termin endet am 09.07.2026.\nAnmeldung zum Abfuhrtermin für die Straße "Zur Fielbecke" unter der URL: http://finnentrop.abfuhrtermine.info/orders/add/date_id:8673/sorting_id:20/street_id:352
DTSTART:20260714
DTEND:20260715
END:VEVENT
BEGIN:VEVENT
UID:58178625-8624-4515-5451-000000008674
SUMMARY:Elektrogeräte/Metallschrott
DESCRIPTION:Elektrogeräte/Metallschrott ist ein anmeldepflichtiger Abfuhrtermin.\nDie Anmeldefrist für diesen Termin endet am 10.09.2026.\nAnmeldung zum Abfuhrtermin für die Straße "Zur Fielbecke" unter der URL: http://finnentrop.abfuhrtermine.info/orders/add/date_id:8674/sorting_id:20/street_id:352
DTSTART:20260915
DTEND:20260916
END:VEVENT
BEGIN:VEVENT
UID:58178625-8624-4515-5451-000000008675
SUMMARY:Elektrogeräte/Metallschrott
DESCRIPTION:Elektrogeräte/Metallschrott ist ein anmeldepflichtiger Abfuhrtermin.\nDie Anmeldefrist für diesen Termin endet am 05.11.2026.\nAnmeldung zum Abfuhrtermin für die Straße "Zur Fielbecke" unter der URL: http://finnentrop.abfuhrtermine.info/orders/add/date_id:8675/sorting_id:20/street_id:352
DTSTART:20261110
DTEND:20261111
END:VEVENT
BEGIN:VEVENT
UID:58178625-8624-4515-5451-000000008622
SUMMARY:Sperrgut
DESCRIPTION:Sperrgut ist ein anmeldepflichtiger Abfuhrtermin.\nDie Anmeldefrist für diesen Termin endet am 28.05.2026.\nAnmeldung zum Abfuhrtermin für die Straße "Zur Fielbecke" unter der URL: http://finnentrop.abfuhrtermine.info/orders/add/date_id:8622/sorting_id:21/street_id:352
DTSTART:20260602
DTEND:20260603
END:VEVENT
BEGIN:VEVENT
UID:58178625-8624-4515-5451-000000008623
SUMMARY:Sperrgut
DESCRIPTION:Sperrgut ist ein anmeldepflichtiger Abfuhrtermin.\nDie Anmeldefrist für diesen Termin endet am 31.07.2026.\nAnmeldung zum Abfuhrtermin für die Straße "Zur Fielbecke" unter der URL: http://finnentrop.abfuhrtermine.info/orders/add/date_id:8623/sorting_id:21/street_id:352
DTSTART:20260805
DTEND:20260806
END:VEVENT
BEGIN:VEVENT
UID:58178625-8624-4515-5451-000000008624
SUMMARY:Sperrgut
DESCRIPTION:Sperrgut ist ein anmeldepflichtiger Abfuhrtermin.\nDie Anmeldefrist für diesen Termin endet am 28.09.2026.\nAnmeldung zum Abfuhrtermin für die Straße "Zur Fielbecke" unter der URL: http://finnentrop.abfuhrtermine.info/orders/add/date_id:8624/sorting_id:21/street_id:352
DTSTART:20261001
DTEND:20261002
END:VEVENT
BEGIN:VEVENT
UID:58178625-8624-4515-5451-000000008625
SUMMARY:Sperrgut
DESCRIPTION:Sperrgut ist ein anmeldepflichtiger Abfuhrtermin.\nDie Anmeldefrist für diesen Termin endet am 07.12.2026.\nAnmeldung zum Abfuhrtermin für die Straße "Zur Fielbecke" unter der URL: http://finnentrop.abfuhrtermine.info/orders/add/date_id:8625/sorting_id:21/street_id:352
DTSTART:20261210
DTEND:20261211
END:VEVENT
BEGIN:VEVENT
UID:58178625-8624-4515-5451-000000008140
SUMMARY:Bioabfälle
DESCRIPTION;ENCODING=QUOTED-PRINTABLE:Bioabfälle ist eine Regelabfuhr, eine Anmeldung ist nicht erforderlich.
DTSTART:20260427
DTEND:20260428
END:VEVENT
BEGIN:VEVENT
UID:58178625-8624-4515-5451-000000008141
SUMMARY:Bioabfälle
DESCRIPTION;ENCODING=QUOTED-PRINTABLE:Bioabfälle ist eine Regelabfuhr, eine Anmeldung ist nicht erforderlich.
DTSTART:20260511
DTEND:20260512
END:VEVENT
BEGIN:VEVENT
UID:58178625-8624-4515-5451-000000008142
SUMMARY:Bioabfälle
DESCRIPTION;ENCODING=QUOTED-PRINTABLE:Bioabfälle ist eine Regelabfuhr, eine Anmeldung ist nicht erforderlich.
DTSTART:20260518
DTEND:20260519
END:VEVENT
BEGIN:VEVENT
UID:58178625-8624-4515-5451-000000008143
SUMMARY:Bioabfälle
DESCRIPTION;ENCODING=QUOTED-PRINTABLE:Bioabfälle ist eine Regelabfuhr, eine Anmeldung ist nicht erforderlich.
DTSTART:20260526
DTEND:20260527
END:VEVENT
BEGIN:VEVENT
UID:58178625-8624-4515-5451-000000008144
SUMMARY:Bioabfälle
DESCRIPTION;ENCODING=QUOTED-PRINTABLE:Bioabfälle ist eine Regelabfuhr, eine Anmeldung ist nicht erforderlich.
DTSTART:20260601
DTEND:20260602
END:VEVENT
BEGIN:VEVENT
UID:58178625-8624-4515-5451-000000008145
SUMMARY:Bioabfälle
DESCRIPTION;ENCODING=QUOTED-PRINTABLE:Bioabfälle ist eine Regelabfuhr, eine Anmeldung ist nicht erforderlich.
DTSTART:20260608
DTEND:20260609
END:VEVENT
BEGIN:VEVENT
UID:58178625-8624-4515-5451-000000008146
SUMMARY:Bioabfälle
DESCRIPTION;ENCODING=QUOTED-PRINTABLE:Bioabfälle ist eine Regelabfuhr, eine Anmeldung ist nicht erforderlich.
DTSTART:20260615
DTEND:20260616
END:VEVENT
BEGIN:VEVENT
UID:58178625-8624-4515-5451-000000008147
SUMMARY:Bioabfälle
DESCRIPTION;ENCODING=QUOTED-PRINTABLE:Bioabfälle ist eine Regelabfuhr, eine Anmeldung ist nicht erforderlich.
DTSTART:20260622
DTEND:20260623
END:VEVENT
BEGIN:VEVENT
UID:58178625-8624-4515-5451-000000008148
SUMMARY:Bioabfälle
DESCRIPTION;ENCODING=QUOTED-PRINTABLE:Bioabfälle ist eine Regelabfuhr, eine Anmeldung ist nicht erforderlich.
DTSTART:20260629
DTEND:20260630
END:VEVENT
BEGIN:VEVENT
UID:58178625-8624-4515-5451-000000008149
SUMMARY:Bioabfälle
DESCRIPTION;ENCODING=QUOTED-PRINTABLE:Bioabfälle ist eine Regelabfuhr, eine Anmeldung ist nicht erforderlich.
DTSTART:20260706
DTEND:20260707
END:VEVENT
BEGIN:VEVENT
UID:58178625-8624-4515-5451-000000008150
SUMMARY:Bioabfälle
DESCRIPTION;ENCODING=QUOTED-PRINTABLE:Bioabfälle ist eine Regelabfuhr, eine Anmeldung ist nicht erforderlich.
DTSTART:20260713
DTEND:20260714
END:VEVENT
BEGIN:VEVENT
UID:58178625-8624-4515-5451-000000008151
SUMMARY:Bioabfälle
DESCRIPTION;ENCODING=QUOTED-PRINTABLE:Bioabfälle ist eine Regelabfuhr, eine Anmeldung ist nicht erforderlich.
DTSTART:20260720
DTEND:20260721
END:VEVENT
BEGIN:VEVENT
UID:58178625-8624-4515-5451-000000008152
SUMMARY:Bioabfälle
DESCRIPTION;ENCODING=QUOTED-PRINTABLE:Bioabfälle ist eine Regelabfuhr, eine Anmeldung ist nicht erforderlich.
DTSTART:20260727
DTEND:20260728
END:VEVENT
BEGIN:VEVENT
UID:58178625-8624-4515-5451-000000008153
SUMMARY:Bioabfälle
DESCRIPTION;ENCODING=QUOTED-PRINTABLE:Bioabfälle ist eine Regelabfuhr, eine Anmeldung ist nicht erforderlich.
DTSTART:20260803
DTEND:20260804
END:VEVENT
BEGIN:VEVENT
UID:58178625-8624-4515-5451-000000008154
SUMMARY:Bioabfälle
DESCRIPTION;ENCODING=QUOTED-PRINTABLE:Bioabfälle ist eine Regelabfuhr, eine Anmeldung ist nicht erforderlich.
DTSTART:20260810
DTEND:20260811
END:VEVENT
BEGIN:VEVENT
UID:58178625-8624-4515-5451-000000008155
SUMMARY:Bioabfälle
DESCRIPTION;ENCODING=QUOTED-PRINTABLE:Bioabfälle ist eine Regelabfuhr, eine Anmeldung ist nicht erforderlich.
DTSTART:20260817
DTEND:20260818
END:VEVENT
BEGIN:VEVENT
UID:58178625-8624-4515-5451-000000008156
SUMMARY:Bioabfälle
DESCRIPTION;ENCODING=QUOTED-PRINTABLE:Bioabfälle ist eine Regelabfuhr, eine Anmeldung ist nicht erforderlich.
DTSTART:20260824
DTEND:20260825
END:VEVENT
BEGIN:VEVENT
UID:58178625-8624-4515-5451-000000008157
SUMMARY:Bioabfälle
DESCRIPTION;ENCODING=QUOTED-PRINTABLE:Bioabfälle ist eine Regelabfuhr, eine Anmeldung ist nicht erforderlich.
DTSTART:20260831
DTEND:20260901
END:VEVENT
BEGIN:VEVENT
UID:58178625-8624-4515-5451-000000008158
SUMMARY:Bioabfälle
DESCRIPTION;ENCODING=QUOTED-PRINTABLE:Bioabfälle ist eine Regelabfuhr, eine Anmeldung ist nicht erforderlich.
DTSTART:20260907
DTEND:20260908
END:VEVENT
BEGIN:VEVENT
UID:58178625-8624-4515-5451-000000008159
SUMMARY:Bioabfälle
DESCRIPTION;ENCODING=QUOTED-PRINTABLE:Bioabfälle ist eine Regelabfuhr, eine Anmeldung ist nicht erforderlich.
DTSTART:20260914
DTEND:20260915
END:VEVENT
BEGIN:VEVENT
UID:58178625-8624-4515-5451-000000008160
SUMMARY:Bioabfälle
DESCRIPTION;ENCODING=QUOTED-PRINTABLE:Bioabfälle ist eine Regelabfuhr, eine Anmeldung ist nicht erforderlich.
DTSTART:20260921
DTEND:20260922
END:VEVENT
BEGIN:VEVENT
UID:58178625-8624-4515-5451-000000008161
SUMMARY:Bioabfälle
DESCRIPTION;ENCODING=QUOTED-PRINTABLE:Bioabfälle ist eine Regelabfuhr, eine Anmeldung ist nicht erforderlich.
DTSTART:20260928
DTEND:20260929
END:VEVENT
BEGIN:VEVENT
UID:58178625-8624-4515-5451-000000008162
SUMMARY:Bioabfälle
DESCRIPTION;ENCODING=QUOTED-PRINTABLE:Bioabfälle ist eine Regelabfuhr, eine Anmeldung ist nicht erforderlich.
DTSTART:20261005
DTEND:20261006
END:VEVENT
BEGIN:VEVENT
UID:58178625-8624-4515-5451-000000008163
SUMMARY:Bioabfälle
DESCRIPTION;ENCODING=QUOTED-PRINTABLE:Bioabfälle ist eine Regelabfuhr, eine Anmeldung ist nicht erforderlich.
DTSTART:20261012
DTEND:20261013
END:VEVENT
BEGIN:VEVENT
UID:58178625-8624-4515-5451-000000008164
SUMMARY:Bioabfälle
DESCRIPTION;ENCODING=QUOTED-PRINTABLE:Bioabfälle ist eine Regelabfuhr, eine Anmeldung ist nicht erforderlich.
DTSTART:20261026
DTEND:20261027
END:VEVENT
BEGIN:VEVENT
UID:58178625-8624-4515-5451-000000008165
SUMMARY:Bioabfälle
DESCRIPTION;ENCODING=QUOTED-PRINTABLE:Bioabfälle ist eine Regelabfuhr, eine Anmeldung ist nicht erforderlich.
DTSTART:20261109
DTEND:20261110
END:VEVENT
BEGIN:VEVENT
UID:58178625-8624-4515-5451-000000008166
SUMMARY:Bioabfälle
DESCRIPTION;ENCODING=QUOTED-PRINTABLE:Bioabfälle ist eine Regelabfuhr, eine Anmeldung ist nicht erforderlich.
DTSTART:20261123
DTEND:20261124
END:VEVENT
BEGIN:VEVENT
UID:58178625-8624-4515-5451-000000008167
SUMMARY:Bioabfälle
DESCRIPTION;ENCODING=QUOTED-PRINTABLE:Bioabfälle ist eine Regelabfuhr, eine Anmeldung ist nicht erforderlich.
DTSTART:20261207
DTEND:20261208
END:VEVENT
BEGIN:VEVENT
UID:58178625-8624-4515-5451-000000008168
SUMMARY:Bioabfälle
DESCRIPTION;ENCODING=QUOTED-PRINTABLE:Bioabfälle ist eine Regelabfuhr, eine Anmeldung ist nicht erforderlich.
DTSTART:20261219
DTEND:20261220
END:VEVENT
BEGIN:VEVENT
UID:58178625-8624-4515-5451-000000008425
SUMMARY:gelbe Tonne/Sack
DESCRIPTION;ENCODING=QUOTED-PRINTABLE:gelbe Tonne/Sack ist eine Regelabfuhr, eine Anmeldung ist nicht erforderlich.
DTSTART:20260504
DTEND:20260505
END:VEVENT
BEGIN:VEVENT
UID:58178625-8624-4515-5451-000000008426
SUMMARY:gelbe Tonne/Sack
DESCRIPTION;ENCODING=QUOTED-PRINTABLE:gelbe Tonne/Sack ist eine Regelabfuhr, eine Anmeldung ist nicht erforderlich.
DTSTART:20260518
DTEND:20260519
END:VEVENT
BEGIN:VEVENT
UID:58178625-8624-4515-5451-000000008427
SUMMARY:gelbe Tonne/Sack
DESCRIPTION;ENCODING=QUOTED-PRINTABLE:gelbe Tonne/Sack ist eine Regelabfuhr, eine Anmeldung ist nicht erforderlich.
DTSTART:20260601
DTEND:20260602
END:VEVENT
BEGIN:VEVENT
UID:58178625-8624-4515-5451-000000008428
SUMMARY:gelbe Tonne/Sack
DESCRIPTION;ENCODING=QUOTED-PRINTABLE:gelbe Tonne/Sack ist eine Regelabfuhr, eine Anmeldung ist nicht erforderlich.
DTSTART:20260615
DTEND:20260616
END:VEVENT
BEGIN:VEVENT
UID:58178625-8624-4515-5451-000000008429
SUMMARY:gelbe Tonne/Sack
DESCRIPTION;ENCODING=QUOTED-PRINTABLE:gelbe Tonne/Sack ist eine Regelabfuhr, eine Anmeldung ist nicht erforderlich.
DTSTART:20260629
DTEND:20260630
END:VEVENT
BEGIN:VEVENT
UID:58178625-8624-4515-5451-000000008430
SUMMARY:gelbe Tonne/Sack
DESCRIPTION;ENCODING=QUOTED-PRINTABLE:gelbe Tonne/Sack ist eine Regelabfuhr, eine Anmeldung ist nicht erforderlich.
DTSTART:20260713
DTEND:20260714
END:VEVENT
BEGIN:VEVENT
UID:58178625-8624-4515-5451-000000008431
SUMMARY:gelbe Tonne/Sack
DESCRIPTION;ENCODING=QUOTED-PRINTABLE:gelbe Tonne/Sack ist eine Regelabfuhr, eine Anmeldung ist nicht erforderlich.
DTSTART:20260727
DTEND:20260728
END:VEVENT
BEGIN:VEVENT
UID:58178625-8624-4515-5451-000000008432
SUMMARY:gelbe Tonne/Sack
DESCRIPTION;ENCODING=QUOTED-PRINTABLE:gelbe Tonne/Sack ist eine Regelabfuhr, eine Anmeldung ist nicht erforderlich.
DTSTART:20260810
DTEND:20260811
END:VEVENT
BEGIN:VEVENT
UID:58178625-8624-4515-5451-000000008433
SUMMARY:gelbe Tonne/Sack
DESCRIPTION;ENCODING=QUOTED-PRINTABLE:gelbe Tonne/Sack ist eine Regelabfuhr, eine Anmeldung ist nicht erforderlich.
DTSTART:20260824
DTEND:20260825
END:VEVENT
BEGIN:VEVENT
UID:58178625-8624-4515-5451-000000008434
SUMMARY:gelbe Tonne/Sack
DESCRIPTION;ENCODING=QUOTED-PRINTABLE:gelbe Tonne/Sack ist eine Regelabfuhr, eine Anmeldung ist nicht erforderlich.
DTSTART:20260907
DTEND:20260908
END:VEVENT
BEGIN:VEVENT
UID:58178625-8624-4515-5451-000000008435
SUMMARY:gelbe Tonne/Sack
DESCRIPTION;ENCODING=QUOTED-PRINTABLE:gelbe Tonne/Sack ist eine Regelabfuhr, eine Anmeldung ist nicht erforderlich.
DTSTART:20260921
DTEND:20260922
END:VEVENT
BEGIN:VEVENT
UID:58178625-8624-4515-5451-000000008436
SUMMARY:gelbe Tonne/Sack
DESCRIPTION;ENCODING=QUOTED-PRINTABLE:gelbe Tonne/Sack ist eine Regelabfuhr, eine Anmeldung ist nicht erforderlich.
DTSTART:20261005
DTEND:20261006
END:VEVENT
BEGIN:VEVENT
UID:58178625-8624-4515-5451-000000008437
SUMMARY:gelbe Tonne/Sack
DESCRIPTION;ENCODING=QUOTED-PRINTABLE:gelbe Tonne/Sack ist eine Regelabfuhr, eine Anmeldung ist nicht erforderlich.
DTSTART:20261019
DTEND:20261020
END:VEVENT
BEGIN:VEVENT
UID:58178625-8624-4515-5451-000000008438
SUMMARY:gelbe Tonne/Sack
DESCRIPTION;ENCODING=QUOTED-PRINTABLE:gelbe Tonne/Sack ist eine Regelabfuhr, eine Anmeldung ist nicht erforderlich.
DTSTART:20261102
DTEND:20261103
END:VEVENT
BEGIN:VEVENT
UID:58178625-8624-4515-5451-000000008439
SUMMARY:gelbe Tonne/Sack
DESCRIPTION;ENCODING=QUOTED-PRINTABLE:gelbe Tonne/Sack ist eine Regelabfuhr, eine Anmeldung ist nicht erforderlich.
DTSTART:20261116
DTEND:20261117
END:VEVENT
BEGIN:VEVENT
UID:58178625-8624-4515-5451-000000008440
SUMMARY:gelbe Tonne/Sack
DESCRIPTION;ENCODING=QUOTED-PRINTABLE:gelbe Tonne/Sack ist eine Regelabfuhr, eine Anmeldung ist nicht erforderlich.
DTSTART:20261130
DTEND:20261201
END:VEVENT
BEGIN:VEVENT
UID:58178625-8624-4515-5451-000000008441
SUMMARY:gelbe Tonne/Sack
DESCRIPTION;ENCODING=QUOTED-PRINTABLE:gelbe Tonne/Sack ist eine Regelabfuhr, eine Anmeldung ist nicht erforderlich.
DTSTART:20261214
DTEND:20261215
END:VEVENT
BEGIN:VEVENT
UID:58178625-8624-4515-5451-000000008442
SUMMARY:gelbe Tonne/Sack
DESCRIPTION;ENCODING=QUOTED-PRINTABLE:gelbe Tonne/Sack ist eine Regelabfuhr, eine Anmeldung ist nicht erforderlich.
DTSTART:20261228
DTEND:20261229
END:VEVENT
BEGIN:VEVENT
UID:58178625-8624-4515-5451-000000008097
SUMMARY:Papier/Pappe
DESCRIPTION;ENCODING=QUOTED-PRINTABLE:Papier/Pappe ist eine Regelabfuhr, eine Anmeldung ist nicht erforderlich.
DTSTART:20260424
DTEND:20260425
END:VEVENT
BEGIN:VEVENT
UID:58178625-8624-4515-5451-000000008098
SUMMARY:Papier/Pappe
DESCRIPTION;ENCODING=QUOTED-PRINTABLE:Papier/Pappe ist eine Regelabfuhr, eine Anmeldung ist nicht erforderlich.
DTSTART:20260522
DTEND:20260523
END:VEVENT
BEGIN:VEVENT
UID:58178625-8624-4515-5451-000000008099
SUMMARY:Papier/Pappe
DESCRIPTION;ENCODING=QUOTED-PRINTABLE:Papier/Pappe ist eine Regelabfuhr, eine Anmeldung ist nicht erforderlich.
DTSTART:20260619
DTEND:20260620
END:VEVENT
BEGIN:VEVENT
UID:58178625-8624-4515-5451-000000008100
SUMMARY:Papier/Pappe
DESCRIPTION;ENCODING=QUOTED-PRINTABLE:Papier/Pappe ist eine Regelabfuhr, eine Anmeldung ist nicht erforderlich.
DTSTART:20260717
DTEND:20260718
END:VEVENT
BEGIN:VEVENT
UID:58178625-8624-4515-5451-000000008101
SUMMARY:Papier/Pappe
DESCRIPTION;ENCODING=QUOTED-PRINTABLE:Papier/Pappe ist eine Regelabfuhr, eine Anmeldung ist nicht erforderlich.
DTSTART:20260814
DTEND:20260815
END:VEVENT
BEGIN:VEVENT
UID:58178625-8624-4515-5451-000000008102
SUMMARY:Papier/Pappe
DESCRIPTION;ENCODING=QUOTED-PRINTABLE:Papier/Pappe ist eine Regelabfuhr, eine Anmeldung ist nicht erforderlich.
DTSTART:20260911
DTEND:20260912
END:VEVENT
BEGIN:VEVENT
UID:58178625-8624-4515-5451-000000008103
SUMMARY:Papier/Pappe
DESCRIPTION;ENCODING=QUOTED-PRINTABLE:Papier/Pappe ist eine Regelabfuhr, eine Anmeldung ist nicht erforderlich.
DTSTART:20261009
DTEND:20261010
END:VEVENT
BEGIN:VEVENT
UID:58178625-8624-4515-5451-000000008104
SUMMARY:Papier/Pappe
DESCRIPTION;ENCODING=QUOTED-PRINTABLE:Papier/Pappe ist eine Regelabfuhr, eine Anmeldung ist nicht erforderlich.
DTSTART:20261106
DTEND:20261107
END:VEVENT
BEGIN:VEVENT
UID:58178625-8624-4515-5451-000000008105
SUMMARY:Papier/Pappe
DESCRIPTION;ENCODING=QUOTED-PRINTABLE:Papier/Pappe ist eine Regelabfuhr, eine Anmeldung ist nicht erforderlich.
DTSTART:20261204
DTEND:20261205
END:VEVENT
BEGIN:VEVENT
UID:58178625-8624-4515-5451-000000008604
SUMMARY:Reststoffe
DESCRIPTION;ENCODING=QUOTED-PRINTABLE:Reststoffe ist eine Regelabfuhr, eine Anmeldung ist nicht erforderlich.
DTSTART:20260508
DTEND:20260509
END:VEVENT
BEGIN:VEVENT
UID:58178625-8624-4515-5451-000000008605
SUMMARY:Reststoffe
DESCRIPTION;ENCODING=QUOTED-PRINTABLE:Reststoffe ist eine Regelabfuhr, eine Anmeldung ist nicht erforderlich.
DTSTART:20260606
DTEND:20260607
END:VEVENT
BEGIN:VEVENT
UID:58178625-8624-4515-5451-000000008606
SUMMARY:Reststoffe
DESCRIPTION;ENCODING=QUOTED-PRINTABLE:Reststoffe ist eine Regelabfuhr, eine Anmeldung ist nicht erforderlich.
DTSTART:20260703
DTEND:20260704
END:VEVENT
BEGIN:VEVENT
UID:58178625-8624-4515-5451-000000008607
SUMMARY:Reststoffe
DESCRIPTION;ENCODING=QUOTED-PRINTABLE:Reststoffe ist eine Regelabfuhr, eine Anmeldung ist nicht erforderlich.
DTSTART:20260731
DTEND:20260801
END:VEVENT
BEGIN:VEVENT
UID:58178625-8624-4515-5451-000000008608
SUMMARY:Reststoffe
DESCRIPTION;ENCODING=QUOTED-PRINTABLE:Reststoffe ist eine Regelabfuhr, eine Anmeldung ist nicht erforderlich.
DTSTART:20260828
DTEND:20260829
END:VEVENT
BEGIN:VEVENT
UID:58178625-8624-4515-5451-000000008609
SUMMARY:Reststoffe
DESCRIPTION;ENCODING=QUOTED-PRINTABLE:Reststoffe ist eine Regelabfuhr, eine Anmeldung ist nicht erforderlich.
DTSTART:20260925
DTEND:20260926
END:VEVENT
BEGIN:VEVENT
UID:58178625-8624-4515-5451-000000008610
SUMMARY:Reststoffe
DESCRIPTION;ENCODING=QUOTED-PRINTABLE:Reststoffe ist eine Regelabfuhr, eine Anmeldung ist nicht erforderlich.
DTSTART:20261023
DTEND:20261024
END:VEVENT
BEGIN:VEVENT
UID:58178625-8624-4515-5451-000000008611
SUMMARY:Reststoffe
DESCRIPTION;ENCODING=QUOTED-PRINTABLE:Reststoffe ist eine Regelabfuhr, eine Anmeldung ist nicht erforderlich.
DTSTART:20261120
DTEND:20261121
END:VEVENT
BEGIN:VEVENT
UID:58178625-8624-4515-5451-000000008612
SUMMARY:Reststoffe
DESCRIPTION;ENCODING=QUOTED-PRINTABLE:Reststoffe ist eine Regelabfuhr, eine Anmeldung ist nicht erforderlich.
DTSTART:20261218
DTEND:20261219
END:VEVENT
BEGIN:VEVENT
UID:58178625-8624-4515-5451-000000008696
SUMMARY:Schadstoffe (Bringsystem)
DESCRIPTION;ENCODING=QUOTED-PRINTABLE:Schadstoffe (Bringsystem) ist eine Regelabfuhr, eine Anmeldung ist nicht erforderlich.
DTSTART:20260721
DTEND:20260722
END:VEVENT
BEGIN:VEVENT
UID:58178625-8624-4515-5451-000000008697
SUMMARY:Schadstoffe (Bringsystem)
DESCRIPTION;ENCODING=QUOTED-PRINTABLE:Schadstoffe (Bringsystem) ist eine Regelabfuhr, eine Anmeldung ist nicht erforderlich.
DTSTART:20261103
DTEND:20261104
END:VEVENT
BEGIN:VEVENT
UID:58178625-8624-4515-5451-000000008693
SUMMARY:Schadstoffe (Bringsystem)
DESCRIPTION;ENCODING=QUOTED-PRINTABLE:Schadstoffe (Bringsystem) ist eine Regelabfuhr, eine Anmeldung ist nicht erforderlich.
DTSTART:20260505
DTEND:20260506
END:VEVENT
BEGIN:VEVENT
UID:58178625-8624-4515-5451-000000008694
SUMMARY:Schadstoffe (Bringsystem)
DESCRIPTION;ENCODING=QUOTED-PRINTABLE:Schadstoffe (Bringsystem) ist eine Regelabfuhr, eine Anmeldung ist nicht erforderlich.
DTSTART:20260901
DTEND:20260902
END:VEVENT
BEGIN:VEVENT
UID:58178625-8624-4515-5451-000000008699
SUMMARY:Häckseldienst
DESCRIPTION:Häckseldienst ist ein anmeldepflichtiger Abfuhrtermin.\nDie Anmeldefrist für diesen Termin endet am 14.10.2026.\nAnmeldung zum Abfuhrtermin für die Straße "Zur Fielbecke" unter der URL: http://finnentrop.abfuhrtermine.info/orders/add/date_id:8699/sorting_id:11/street_id:352
DTSTART:20261019
DTEND:20261020
END:VEVENT
END:VCALENDAR
